BEGIN:VCALENDAR
VERSION:2.0
PRODID:-//wp-events-plugin.com//5.99912//EN
TZID:Europe/Berlin
X-WR-TIMEZONE:Europe/Berlin
BEGIN:VEVENT
UID:0-349@salmendingen.albverein.eu
DTSTART;TZID=Europe/Berlin:20261219T170000
DTEND;TZID=Europe/Berlin:20261219T234500
DTSTAMP:20251224T081030Z
URL:https://salmendingen.albverein.eu/events/waldweihnacht-5/
SUMMARY:Waldweihnacht
DESCRIPTION:Waldweihnacht für Groß und Klein mit dem Albverein!!!\n\nAm S
 amstag 19.12.2025 findet  wieder unsere Waldweihnacht auf dem Köbele sta
 tt. Hierzu sind alle ganz herzlich eingeladen - natürlich auch Nichtmitgl
 ieder.\n\nWir treffen uns um 17:00 Uhr am St. Nepomuk Brunnen\, um im Fack
 elschein gemeinsam aufs Köbele zu laufen. Der Weg ist meist geteert und s
 ehr gut für Kinderwägen geeignet. Für die Kinder gibt es unterwegs ein 
 Weihnachtsquiz an dessen Ende alle Kinder eine kleine Überraschung erhalt
 en.\n\nOben an der Albvereinshütte angekommen erwartet uns eine weihnacht
 lich geschmückte Hütte und ein Programm an dem sich Jung und Alt erfreue
 n können.\n\nFür das leibliche Wohl ist bestens gesorgt. Für die Kinder
  gibt es kostenlosen Kinderpunsch.\n\nWir freuen uns auf ein gemütliches 
 und besinnliches Fest mit euch!\n\nEure Familiengruppe
END:VEVENT
BEGIN:VTIMEZONE
TZID:Europe/Berlin
X-LIC-LOCATION:Europe/Berlin
BEGIN:STANDARD
DTSTART:20261025T020000
TZOFFSETFROM:+0200
TZOFFSETTO:+0100
TZNAME:CET
END:STANDARD
END:VTIMEZONE
END:VCALENDAR