BEGIN:VCALENDAR
VERSION:2.0
PRODID:-//wp-events-plugin.com//5.99912//EN
TZID:Europe/Berlin
X-WR-TIMEZONE:Europe/Berlin
BEGIN:VEVENT
UID:0-338@salmendingen.albverein.eu
DTSTART;TZID=Europe/Berlin;VALUE=DATE:20260816
DTEND;TZID=Europe/Berlin;VALUE=DATE:20260817
DTSTAMP:20251224T075352Z
URL:https://salmendingen.albverein.eu/events/tageswanderung-bei-bad-ueberk
 ingen/
SUMMARY:Tageswanderung bei Bad Überkingen
DESCRIPTION:Tageswanderung von Bad Überkingen\, über Aufhausen und Türkh
 eim zurück nach Bad Überkingen. Im Dreieck von Filstal\, Autal und Röte
 lbach erwarten uns 2 Höhlen\, 2 Burgruinen\, ein Wasserfall und dazu Auss
 ichtskanzeln und ein spektakuläres Felsenloch.\n\nOrga: Bernd
END:VEVENT
BEGIN:VTIMEZONE
TZID:Europe/Berlin
X-LIC-LOCATION:Europe/Berlin
BEGIN:DAYLIGHT
DTSTART:20260329T030000
TZOFFSETFROM:+0100
TZOFFSETTO:+0200
TZNAME:CEST
END:DAYLIGHT
END:VTIMEZONE
END:VCALENDAR