BEGIN:VCALENDAR
VERSION:2.0
PRODID:-//wp-events-plugin.com//5.99912//EN
TZID:Europe/Berlin
X-WR-TIMEZONE:Europe/Berlin
BEGIN:VEVENT
UID:0-346@salmendingen.albverein.eu
DTSTART;TZID=Europe/Berlin;VALUE=DATE:20261011
DTEND;TZID=Europe/Berlin;VALUE=DATE:20261012
DTSTAMP:20251224T080619Z
URL:https://salmendingen.albverein.eu/events/tageswanderung-achsnagelweg/
SUMMARY:Tageswanderung Achsnagelweg
DESCRIPTION:Achsnagelweg Teil 1\n\nCa. 16km lange Tageswanderung\, rund um 
 den Heidengraben mit Schluchten\, Höhlen\, Burgen und Einblicken in eine 
 faszinierende Keltenkultur.
END:VEVENT
BEGIN:VTIMEZONE
TZID:Europe/Berlin
X-LIC-LOCATION:Europe/Berlin
BEGIN:DAYLIGHT
DTSTART:20260329T030000
TZOFFSETFROM:+0100
TZOFFSETTO:+0200
TZNAME:CEST
END:DAYLIGHT
END:VTIMEZONE
END:VCALENDAR