BEGIN:VCALENDAR
VERSION:2.0
PRODID:-//wp-events-plugin.com//5.99912//EN
TZID:Europe/Berlin
X-WR-TIMEZONE:Europe/Berlin
BEGIN:VEVENT
UID:0-335@salmendingen.albverein.eu
DTSTART;TZID=Europe/Berlin;VALUE=DATE:20260628
DTEND;TZID=Europe/Berlin;VALUE=DATE:20260629
DTSTAMP:20251224T074641Z
URL:https://salmendingen.albverein.eu/events/neckarradweg-mit-und-ohne-e-b
 ike/
SUMMARY:Neckarradweg mit und ohne E-Bike
DESCRIPTION:\n 	Etappe von der Quelle im Schwenninger Moos bis Horb am Neck
 ar. Ca. 78km und 340 HM nur bergab. Deshalb ist die Tour sowohl mit E-Bike
  als auch mit dem "normalen" Fahrrad gut zu bewältigen.\n
END:VEVENT
BEGIN:VTIMEZONE
TZID:Europe/Berlin
X-LIC-LOCATION:Europe/Berlin
BEGIN:DAYLIGHT
DTSTART:20260329T030000
TZOFFSETFROM:+0100
TZOFFSETTO:+0200
TZNAME:CEST
END:DAYLIGHT
END:VTIMEZONE
END:VCALENDAR