BEGIN:VCALENDAR
VERSION:2.0
PRODID:-//wp-events-plugin.com//5.99912//EN
TZID:Europe/Berlin
X-WR-TIMEZONE:Europe/Berlin
BEGIN:VEVENT
UID:0-347@salmendingen.albverein.eu
DTSTART;TZID=Europe/Berlin:20261025T143000
DTEND;TZID=Europe/Berlin:20261025T180000
DTSTAMP:20251224T080737Z
URL:https://salmendingen.albverein.eu/events/kuerbisschnitzen-6/
SUMMARY:Kürbisschnitzen
DESCRIPTION:Der Albverein Salmendingen lädt alle Familien zum Kürbisschni
 tzen ein.\n\nAm Sonntag\, den 25.10.2026 um 15 Uhr auf die Albvereinshütt
 e.\n\nWer Lust hat trifft sich um 14:30Uhr am St. Nepomukbrunnen zum gemei
 nsamen Spaziergang zur Hütte (für den Heimweg die Taschenlampe nicht ver
 gessen\, der Kürbis wird nach gefahren).\n\nSchnitzmesser/ - werkzeug bit
 te selbst mitbringen.\n\nKaffee\, Kuchen\, Getränke und Rote Würste werd
 en in der Hütte verkauft.\n\nFür Albvereinsmitglieder sind die Kürbisse
  kostenfrei\, für Nichtmitglieder erheben wir einen Unkostenbeitrag von 4
 € pro Kürbis.\n\nWir freuen uns auf euch!\n\nDas Familienteam
END:VEVENT
BEGIN:VTIMEZONE
TZID:Europe/Berlin
X-LIC-LOCATION:Europe/Berlin
BEGIN:STANDARD
DTSTART:20261025T020000
TZOFFSETFROM:+0200
TZOFFSETTO:+0100
TZNAME:CET
END:STANDARD
END:VTIMEZONE
END:VCALENDAR