BEGIN:VCALENDAR
VERSION:2.0
PRODID:-//wp-events-plugin.com//5.99912//EN
TZID:Europe/Berlin
X-WR-TIMEZONE:Europe/Berlin
BEGIN:VEVENT
UID:0-345@salmendingen.albverein.eu
DTSTART;TZID=Europe/Berlin:20261010T090000
DTEND;TZID=Europe/Berlin:20261010T130000
DTSTAMP:20251224T080316Z
URL:https://salmendingen.albverein.eu/events/kornbuehlpflegeeinsatz-und-um
 weltaktionstag-2/
SUMMARY:Kornbühlpflegeeinsatz und Umweltaktionstag
DESCRIPTION:Kornbühlpflegeeinsatz und Umweltaktionstag am Samstag 10. Okto
 ber 2026\n\nHerzliche Einladung an ALLE unseren Hausberg zu pflegen und hi
 erdurch seinen schönen Anblick zu erhalten.\n\nAufgrund der geringen Helf
 erzahlen in den letzten Jahren\, wird der Kornbühlpflegeeinsatz gemeinsam
  mit dem Umweltaktionstag stattfinden. Die Organisation und Durchführung 
 wird künftig der neue Förderverein für Salmendingen übernehmen. Der Er
 lös der Aktion kommt somit direkt unserem Dorf zugute.\n\nHerzlichen Dank
  für eure Unterstützung!\n\nAusweichtermin bei schlechtem Wetter ist der
  17.Oktober.
END:VEVENT
BEGIN:VTIMEZONE
TZID:Europe/Berlin
X-LIC-LOCATION:Europe/Berlin
BEGIN:DAYLIGHT
DTSTART:20260329T030000
TZOFFSETFROM:+0100
TZOFFSETTO:+0200
TZNAME:CEST
END:DAYLIGHT
END:VTIMEZONE
END:VCALENDAR