BEGIN:VCALENDAR
VERSION:2.0
PRODID:-//wp-events-plugin.com//5.99912//EN
TZID:Europe/Berlin
X-WR-TIMEZONE:Europe/Berlin
BEGIN:VEVENT
UID:0-353@salmendingen.albverein.eu
DTSTART;TZID=Europe/Berlin:20261004T113000
DTEND;TZID=Europe/Berlin:20261004T183000
DTSTAMP:20251224T081418Z
URL:https://salmendingen.albverein.eu/events/huettenoeffnung-20/
SUMMARY:Hüttenöffnung
DESCRIPTION:Am Sonntag\, den 04.Oktober lädt der Albverein Salmendingen al
 le ganz herzlich zur Hüttenöffnung aufs Köbele ein. Ab 11:30Uhr gibt es
  ein kleines Mittagessen\, Rote und Bauernbratwürste vom Grill\, sowie Ka
 ffee und Kuchen.\n\nSchaut doch vorbei\, wir freuen uns über euren Besuch
 !
END:VEVENT
BEGIN:VTIMEZONE
TZID:Europe/Berlin
X-LIC-LOCATION:Europe/Berlin
BEGIN:DAYLIGHT
DTSTART:20260329T030000
TZOFFSETFROM:+0100
TZOFFSETTO:+0200
TZNAME:CEST
END:DAYLIGHT
END:VTIMEZONE
END:VCALENDAR