BEGIN:VCALENDAR
VERSION:2.0
PRODID:-//wp-events-plugin.com//5.99912//EN
TZID:Europe/Berlin
X-WR-TIMEZONE:Europe/Berlin
BEGIN:VEVENT
UID:0-344@salmendingen.albverein.eu
DTSTART;TZID=Europe/Berlin;VALUE=DATE:20260925
DTEND;TZID=Europe/Berlin;VALUE=DATE:20260928
DTSTAMP:20251224T080157Z
URL:https://salmendingen.albverein.eu/events/frauenwanderwochenende-im-sch
 warzwald-2/
SUMMARY:Frauenwanderwochenende im Schwarzwald
DESCRIPTION:HERZLICHE EINLADUNG\n\n 	Ziel: Der schöne Nordschwarzwald\n 	R
 aus aus dem Alltag\n 	Ein gemütliches Wochenende für ALLE Frauen\n 	Übe
 rnachtung im Selbstversorgerhaus\n 	Verschiedene Wanderrouten zur Auswahl\
 n\n&nbsp\;\n\nWir starten am Freitag Nachmittag gegen 16Uhr und fahren in 
 Fahrgemeinschaften Richtung Bad Wildbad. Unsere Unterkunft ist ein Selbstv
 ersorgerhaus. Es gibt verschiedene Mehrbettzimmer (hier gehen wir gerne au
 f eure Wünsche ein). Nach dem gemeinsamen Abendessen in unserer Unterkunf
 t\, lassen wir den Abend gemütlich ausklingen.\n\nAm Samstag\, starten wi
 r nach einem ausgiebigen Frühstück die erste Wanderung. Wir werden zwei 
 verschiedene Touren anbieten\, so dass wirklich für jeden was dabei ist. 
 Abends gehen wir gemeinsam Essen.\n\nNach einer erholsamen Nacht und einem
  leckeren Frühstück starten wir dann am Sonntag unsere zweite Wanderung.
  Am Nachmittag treten wir die Rückfahrt an. Wer möchte kann den Abend no
 ch beim gemeinsamen Essen in der Heimat ausklingen lassen.\n\nOrga: Uschi 
 und Steffi
END:VEVENT
BEGIN:VTIMEZONE
TZID:Europe/Berlin
X-LIC-LOCATION:Europe/Berlin
BEGIN:DAYLIGHT
DTSTART:20260329T030000
TZOFFSETFROM:+0100
TZOFFSETTO:+0200
TZNAME:CEST
END:DAYLIGHT
END:VTIMEZONE
END:VCALENDAR