BEGIN:VCALENDAR
VERSION:2.0
PRODID:-//wp-events-plugin.com//5.99912//EN
TZID:Europe/Berlin
X-WR-TIMEZONE:Europe/Berlin
BEGIN:VEVENT
UID:0-334@salmendingen.albverein.eu
DTSTART;TZID=Europe/Berlin;VALUE=DATE:20260621
DTEND;TZID=Europe/Berlin;VALUE=DATE:20260622
DTSTAMP:20251224T074442Z
URL:https://salmendingen.albverein.eu/events/familienausflug-zum-lemberg/
SUMMARY:Familienausflug zum Lemberg
DESCRIPTION:Die Familiengruppe lädt zum gemeinsamen Ausflug auf den Lember
 g ein\, mit kleiner Wanderung und abschließendem Grillen.
END:VEVENT
BEGIN:VTIMEZONE
TZID:Europe/Berlin
X-LIC-LOCATION:Europe/Berlin
BEGIN:DAYLIGHT
DTSTART:20260329T030000
TZOFFSETFROM:+0100
TZOFFSETTO:+0200
TZNAME:CEST
END:DAYLIGHT
END:VTIMEZONE
END:VCALENDAR