BEGIN:VCALENDAR
VERSION:2.0
PRODID:-//wp-events-plugin.com//5.99912//EN
TZID:Europe/Berlin
X-WR-TIMEZONE:Europe/Berlin
BEGIN:VEVENT
UID:0-337@salmendingen.albverein.eu
DTSTART;TZID=Europe/Berlin;VALUE=DATE:20260725
DTEND;TZID=Europe/Berlin;VALUE=DATE:20260727
DTSTAMP:20251224T075126Z
URL:https://salmendingen.albverein.eu/events/busausfahrt-fuer-alle-2/
SUMMARY:Busausfahrt für ALLE
DESCRIPTION:Unsere diesjährige Busausfahrt für ALLE führt uns ins Brandn
 er Tal.\n\nDort gibt es wieder verschiedene Möglichkeiten den Berg zu erk
 limmen. Von der Kinderwanderung\, über eine anspruchsvollere Wanderung bi
 s zum Klettersteig ist alles dabei und jeder kann sich individuell entsche
 iden. Übernachtung ist für alle in der Heinrich Hüter Hütte.\n\nOrga: 
 Uschi
END:VEVENT
BEGIN:VTIMEZONE
TZID:Europe/Berlin
X-LIC-LOCATION:Europe/Berlin
BEGIN:DAYLIGHT
DTSTART:20260329T030000
TZOFFSETFROM:+0100
TZOFFSETTO:+0200
TZNAME:CEST
END:DAYLIGHT
END:VTIMEZONE
END:VCALENDAR