BEGIN:VCALENDAR
VERSION:2.0
PRODID:-//wp-events-plugin.com//5.99912//EN
TZID:Europe/Berlin
X-WR-TIMEZONE:Europe/Berlin
BEGIN:VEVENT
UID:0-342@salmendingen.albverein.eu
DTSTART;TZID=Europe/Berlin:20260902T170000
DTEND;TZID=Europe/Berlin:20260902T200000
DTSTAMP:20251224T075850Z
URL:https://salmendingen.albverein.eu/events/burladinger-ferienwanderungen
 -killer/
SUMMARY:Burladinger Ferienwanderungen - Killer
DESCRIPTION:Dieses Jahr bieten wir als kleine Abwechslung für die Sommerfe
 rien\, die Burladinger Ferienwanderungen an.\n\nAn fünf Mittwochen in den
  Ferien\, findet jeweils um 17Uhr in einer Burladinger Albvereins-Ortsgrup
 pe eine Wanderung statt. Die Wanderrouten sind ca. 6km lang und verlaufen 
 rund um die jeweilige Ortschaft. Auf den Wanderungen erfahrt ihr mehr\, ü
 ber unsere "schönsten Ecken" und wissenswertes zu den jeweiligen Ortschaf
 ten und Umgebungen. Zum Abschluss jeder Wanderung gibt es eine Rote Wurst 
 und ein Getränk zum Ferien-Preis von 3\,50€. Parallel dazu findet an ei
 nigen Terminen für die Zeit der Wanderung auch eine Kinderbetreuung statt
 . Nähere Informationen werden dann rechtzeitig von jeder Ortsgruppe nochm
 al separat veröffentlicht.\nFestes Schuhwerk\, der Witterung angepasste K
 leidung und ggf. ein Getränk für die Wanderung werden empfohlen. Die Tei
 lnahme erfolgt auf eigene Gefahr.\n\n\n\nDie Ferienwanderungen finden an f
 olgenden Terminen statt:\n\n\nMittwoch\, 05.August 2026\nOrtsgruppe Stette
 n u.H.\n\n\nMittwoch\, 12.August 2026\nOrtsgruppe Melchingen\n\n\nMittwoch
 \, 19.August 2026\nOrtsgruppe Salmendingen\n\n\nMittwoch\, 26.August 2026\
 nOrtsgruppe Burladingen\n\n\nMittwoch\, 02.September 2026\nOrtsgruppe Kill
 er\n\n\n
END:VEVENT
BEGIN:VTIMEZONE
TZID:Europe/Berlin
X-LIC-LOCATION:Europe/Berlin
BEGIN:DAYLIGHT
DTSTART:20260329T030000
TZOFFSETFROM:+0100
TZOFFSETTO:+0200
TZNAME:CEST
END:DAYLIGHT
END:VTIMEZONE
END:VCALENDAR