BEGIN:VCALENDAR
VERSION:2.0
PRODID:-//wp-events-plugin.com//5.99912//EN
TZID:Europe/Berlin
X-WR-TIMEZONE:Europe/Berlin
BEGIN:VEVENT
UID:0-336@salmendingen.albverein.eu
DTSTART;TZID=Europe/Berlin;VALUE=DATE:20260704
DTEND;TZID=Europe/Berlin;VALUE=DATE:20260706
DTSTAMP:20251224T074824Z
URL:https://salmendingen.albverein.eu/events/bergtour-auf-den-hochvogel/
SUMMARY:Bergtour auf den Hochvogel
DESCRIPTION:Mittelschwere Gebirgstour mit Übernachtung im Prinz-Luipolt-Ha
 us und Besteigung des Hochvogel.\n\nOrga: Uschi und Steffi
END:VEVENT
BEGIN:VTIMEZONE
TZID:Europe/Berlin
X-LIC-LOCATION:Europe/Berlin
BEGIN:DAYLIGHT
DTSTART:20260329T030000
TZOFFSETFROM:+0100
TZOFFSETTO:+0200
TZNAME:CEST
END:DAYLIGHT
END:VTIMEZONE
END:VCALENDAR