BEGIN:VCALENDAR
VERSION:2.0
PRODID:-//wp-events-plugin.com//5.99912//EN
TZID:Europe/Berlin
X-WR-TIMEZONE:Europe/Berlin
BEGIN:VEVENT
UID:0-332@salmendingen.albverein.eu
DTSTART;TZID=Europe/Berlin;VALUE=DATE:20260514
DTEND;TZID=Europe/Berlin;VALUE=DATE:20260518
DTSTAMP:20251224T074245Z
URL:https://salmendingen.albverein.eu/events/4-tages-tour-pfaelzer-weinste
 ig-2/
SUMMARY:4-Tages Tour Pfälzer Weinsteig
DESCRIPTION:Eine 4-Tages Wandertour über den Pfälzer Weinsteig.\n\nOrga: 
 Michael
END:VEVENT
BEGIN:VTIMEZONE
TZID:Europe/Berlin
X-LIC-LOCATION:Europe/Berlin
BEGIN:DAYLIGHT
DTSTART:20260329T030000
TZOFFSETFROM:+0100
TZOFFSETTO:+0200
TZNAME:CEST
END:DAYLIGHT
END:VTIMEZONE
END:VCALENDAR